Workbook

Sheet README
A1: Fiji PPP — Monthly Payout Calculator (Template)
A3: PURPOSE
A4: Calculate each employee's monthly Performance Pay Program (PPP) payout for Fiji, based on the
A5: APAC PPP FAQ rules (Payout = A x B x C x D x Q) and the Fiji FY26 team/employee goals.
A7: PPILLAR OF THE MODEL
A8: A = Monthly Base Salary (input per employee)
A9: B = Market Target Payout % (input; country constant set by HR, e.g. 10)
A10: C = Scorecard Achievement % (computed from position metrics, 0-100)
A11: D = LC Multiplier (input; 0.6 - 1.4 per APAC LC table)
A12: Q = Pro-ration factor (computed from join/leave/transfer/absence)
A14: Monthly Payout = A x (B/100) x (C/100) x D x Q
A16: HOW C (Scorecard Achievement) IS BUILT
... A39: Market Target % (B) and LC Multiplier (D) are placeholders to be confirmed by Fiji HR/Finance.

Sheet GoalMatrix
A1: Goal Matrix — Position x Metric (Weightage & Target)
A3: Position | B3: IB NSL | C3: OB NSL | D3: CMOD | E3: CTC | F3: Preclearance | G3: Safety | H3: Sum
A4: Station Courier | B4: 0.33333 | C4: 0.33333 | D4: 0 | E4: 0 | F4: 0 | G4: 0.33333 | H4: =SUM(B4:G4)
A5: Station Agent | B5: 0.25 | C5: 0.25 | D5: 0.25 | E5: 0 | F5: 0 | G5: 0.25 | H5: =SUM(B5:G5)
A6: Gateway | B6: 0.25 | C6: 0.25 | D6: 0.25 | E6: 0 | F6: 0 | G6: 0.25 | H6: =SUM(B6:G6)
A7: Clearance | B7: 0.25 | C7: 0.25 | D7: 0 | E7: 0.25 | F7: 0.25 | G7: 0 | H7: =SUM(B7:G7)
A10: Position | B10: IB NSL | C10: OB NSL | D10: CMOD | E10: CTC | F10: Preclearance | G10: Safety
A11: Station Courier | B11: 0.566 | C11: 0.53 | D11: 0 | E11: 0 | F11: 0 | G11: 0
A12: Station Agent | B12: 0.566 | C12: 0.53 | D12: 0.78 | E12: 0 | F12: 0 | G12: 0
A13: Gateway | B13: 0.566 | C13: 0.53 | D13: 0.75 | E13: 0 | F13: 0 | G13: 0
A14: Clearance | B14: 0.566 | C14: 0.53 | D14: 0 | E14: 0.75 | F14: 0.5435 | G14: 0

Sheet TeamScorecard
A1: Team Scorecard — enter ACTUALS per Position + Month (Team-level metrics)
A3: Position | B3: Month | C3: Key | D3: IB NSL Actual | E3: OB NSL Actual | F3: CMOD Actual | G3: CTC Actual | H3: Preclearance Actual | I3: IB NSL Ach% | J3: OB NSL Ach% | K3: CMOD Ach% | L3: CTC Ach% | M3: Preclearance Ach%
A4: Station Courier | B4: 2026-04 | C4: =A4&"|"&B4 | D4: 0.58 | E4: 0.52 | I4: =IF(D4="","",IF(D4>=INDEX(GoalMatrix!$B$11:$G$14,MATCH($A4,GoalMatrix!$A$11:$A$14,0),1),100,IF((INDEX(GoalMatrix!$B$11:$G$14,MATCH($A4,GoalMatrix!$A$11:$A$14,0),1)-D4)/INDEX(GoalMatrix!$B$11:$G$14,MATCH($A4,GoalMatrix!$A$11:$A$14,0),1)*100<=2.5,50,IF((INDEX(GoalMatrix!$B$11:$G$14,MATCH($A4,GoalMatrix!$A$11:$A$14,0),1)-D4)/INDEX(GoalMatrix!$B$11:$G$14,MATCH($A4,GoalMatrix!$A$11:$A$14,0),1)*100<=5,25,0)))) | J4: =IF(E4="","",IF(E4>=INDEX(GoalMatrix!$B$11:$G$14,MATCH($A4,GoalMatrix!$A$11:$A$14,0),2),100,IF((INDEX(GoalMatrix!$B$11:$G$14,MATCH($A4,GoalMatrix!$A$11:$A$14,0),2)-E4)/INDEX(GoalMatrix!$B$11:$G$14,MATCH($A4,GoalMatrix!$A$11:$A$14,0),2)*100<=2.5,50,IF((INDEX(GoalMatrix!$B$11:$G$14,MATCH($A4,GoalMatrix!$A$11:$A$14,0),2)-E4)/INDEX(GoalMatrix!$B$11:$G$14,MATCH($A4,GoalMatrix!$A$11:$A$14,0),2)*100<=5,25,0)))) | K4: =IF(F4="","",IF(F4>=INDEX(GoalMatrix!$B$11:$G$14,MATCH($A4,GoalMatrix!$A$11:$A$14,0),3),100,IF((INDEX(GoalMatrix!$B$11:$G$14,MATCH($A4,GoalMatrix!$A$11:$A$14,0),3)-F4)/INDEX(GoalMatrix!$B$11:$G$14,MATCH($A4,GoalMatrix!$A$11:$A$14,0),3)*100<=2.5,50,IF((INDEX(GoalMatrix!$B$11:$G$14,MATCH($A4,GoalMatrix!$A$11:$A$14,0),3)-F4)/INDEX(GoalMatrix!$B$11:$G$14,MATCH($A4,GoalMatrix!$A$11:$A$14,0),3)*100<=5,25,0)))) | L4: =IF(G4="","",IF(G4>=INDEX(GoalMatrix!$B$11:$G$14,MATCH($A4,GoalMatrix!$A$11:$A$14,0),4),100,IF((INDEX(GoalMatrix!$B$11:$G$14,MATCH($A4,GoalMatrix!$A$11:$A$14,0),4)-G4)/INDEX(GoalMatrix!$B$11:$G$14,MATCH($A4,GoalMatrix!$A$11:$A$14,0),4)*100<=2.5,50,IF((INDEX(GoalMatrix!$B$11:$G$14,MATCH($A4,GoalMatrix!$A$11:$A$14,0),4)-G4)/INDEX(GoalMatrix!$B$11:$G$14,MATCH($A4,GoalMatrix!$A$11:$A$14,0),4)*100<=5,25,0)))) | M4: =IF(H4="","",IF(H4>=INDEX(GoalMatrix!$B$11:$G$14,MATCH($A4,GoalMatrix!$A$11:$A$14,0),5),100,IF((INDEX(GoalMatrix!$B$11:$G$14,MATCH($A4,GoalMatrix!$A$11:$A$14,0),5)-H4)/INDEX(GoalMatrix!$B$11:$G$14,MATCH($A4,GoalMatrix!$A$11:$A$14,0),5)*100<=2.5,50,IF((INDEX(GoalMatrix!$B$11:$G$14,MATCH($A4,GoalMatrix!$A$11:$A$14,0),5)-H4)/INDEX(GoalMatrix!$B$11:$G$14,MATCH($A4,GoalMatrix!$A$11:$A$14,0),5)*100<=5,25,0))))
A5: Station Agent | B5: 2026-04 | C5: =A5&"|"&B5 | D5: 0.57 | E5: 0.53 | F5: 0.79 | I5: =IF(D5="","",IF(D5>=INDEX(GoalMatrix!$B$11:$G$14,MATCH($A5,GoalMatrix!$A$11:$A$14,0),1),100,IF((INDEX(GoalMatrix!$B$11:$G$14,MATCH($A5,GoalMatrix!$A$11:$A$14,0),1)-D5)/INDEX(GoalMatrix!$B$11:$G$14,MATCH($A5,GoalMatrix!$A$11:$A$14,0),1)*100<=2.5,50,IF((INDEX(GoalMatrix!$B$11:$G$14,MATCH($A5,GoalMatrix!$A$11:$A$14,0),1)-D5)/INDEX(GoalMatrix!$B$11:$G$14,MATCH($A5,GoalMatrix!$A$11:$A$14,0),1)*100<=5,25,0)))) | J5: =IF(E5="","",IF(E5>=INDEX(GoalMatrix!$B$11:$G$14,MATCH($A5,GoalMatrix!$A$11:$A$14,0),2),100,IF((INDEX(GoalMatrix!$B$11:$G$14,MATCH($A5,GoalMatrix!$A$11:$A$14,0),2)-E5)/INDEX(GoalMatrix!$B$11:$G$14,MATCH($A5,GoalMatrix!$A$11:$A$14,0),2)*100<=2.5,50,IF((INDEX(GoalMatrix!$B$11:$G$14,MATCH($A5,GoalMatrix!$A$11:$A$14,0),2)-E5)/INDEX(GoalMatrix!$B$11:$G$14,MATCH($A5,GoalMatrix!$A$11:$A$14,0),2)*100<=5,25,0)))) | K5: =IF(F5="","",IF(F5>=INDEX(GoalMatrix!$B$11:$G$14,MATCH($A5,GoalMatrix!$A$11:$A$14,0),3),100,IF((INDEX(GoalMatrix!$B$11:$G$14,MATCH($A5,GoalMatrix!$A$11:$A$14,0),3)-F5)/INDEX(GoalMatrix!$B$11:$G$14,MATCH($A5,GoalMatrix!$A$11:$A$14,0),3)*100<=2.5,50,IF((INDEX(GoalMatrix!$B$11:$G$14,MATCH($A5,GoalMatrix!$A$11:$A$14,0),3)-F5)/INDEX(GoalMatrix!$B$11:$G$14,MATCH($A5,GoalMatrix!$A$11:$A$14,0),3)*100<=5,25,0)))) | L5: =IF(G5="","",IF(G5>=INDEX(GoalMatrix!$B$11:$G$14,MATCH($A5,GoalMatrix!$A$11:$A$14,0),4),100,IF((INDEX(GoalMatrix!$B$11:$G$14,MATCH($A5,GoalMatrix!$A$11:$A$14,0),4)-G5)/INDEX(GoalMatrix!$B$11:$G$14,MATCH($A5,GoalMatrix!$A$11:$A$14,0),4)*100<=2.5,50,IF((INDEX(GoalMatrix!$B$11:$G$14,MATCH($A5,GoalMatrix!$A$11:$A$14,0),4)-G5)/INDEX(GoalMatrix!$B$11:$G$14,MATCH($A5,GoalMatrix!$A$11:$A$14,0),4)*100<=5,25,0)))) | M5: =IF(H5="","",IF(H5>=INDEX(GoalMatrix!$B$11:$G$14,MATCH($A5,GoalMatrix!$A$11:$A$14,0),5),100,IF((INDEX(GoalMatrix!$B$11:$G$14,MATCH($A5,GoalMatrix!$A$11:$A$14,0),5)-H5)/INDEX(GoalMatrix!$B$11:$G$14,MATCH($A5,GoalMatrix!$A$11:$A$14,0),5)*100<=2.5,50,IF((INDEX(GoalMatrix!$B$11:$G$14,MATCH($A5,GoalMatrix!$A$11:$A$14,0),5)-H5)/INDEX(GoalMatrix!$B$11:$G$14,MATCH($A5,GoalMatrix!$A$11:$A$14,0),5)*100<=5,25,0))))
A6: Gateway | B6: 2026-04 | C6: =A6&"|"&B6 | D6: 0.55 | E6: 0.51 | F6: 0.74 | I6: =IF(D6="","",IF(D6>=INDEX(GoalMatrix!$B$11:$G$14,MATCH($A6,GoalMatrix!$A$11:$A$14,0),1),100,IF((INDEX(GoalMatrix!$B$11:$G$14,MATCH($A6,GoalMatrix!$A$11:$A$14,0),1)-D6)/INDEX(GoalMatrix!$B$11:$G$14,MATCH($A6,GoalMatrix!$A$11:$A$14,0),1)*100<=2.5,50,IF((INDEX(GoalMatrix!$B$11:$G$14,MATCH($A6,GoalMatrix!$A$11:$A$14,0),1)-D6)/INDEX(GoalMatrix!$B$11:$G$14,MATCH($A6,GoalMatrix!$A$11:$A$14,0),1)*100<=5,25,0)))) | J6: =IF(E6="","",IF(E6>=INDEX(GoalMatrix!$B$11:$G$14,MATCH($A6,GoalMatrix!$A$11:$A$14,0),2),100,IF((INDEX(GoalMatrix!$B$11:$G$14,MATCH($A6,GoalMatrix!$A$11:$A$14,0),2)-E6)/INDEX(GoalMatrix!$B$11:$G$14,MATCH($A6,GoalMatrix!$A$11:$A$14,0),2)*100<=2.5,50,IF((INDEX(GoalMatrix!$B$11:$G$14,MATCH($A6,GoalMatrix!$A$11:$A$14,0),2)-E6)/INDEX(GoalMatrix!$B$11:$G$14,MATCH($A6,GoalMatrix!$A$11:$A$14,0),2)*100<=5,25,0)))) | K6: =IF(F6="","",IF(F6>=INDEX(GoalMatrix!$B$11:$G$14,MATCH($A6,GoalMatrix!$A$11:$A$14,0),3),100,IF((INDEX(GoalMatrix!$B$11:$G$14,MATCH($A6,GoalMatrix!$A$11:$A$14,0),3)-F6)/INDEX(GoalMatrix!$B$11:$G$14,MATCH($A6,GoalMatrix!$A$11:$A$14,0),3)*100<=2.5,50,IF((INDEX(GoalMatrix!$B$11:$G$14,MATCH($A6,GoalMatrix!$A$11:$A$14,0),3)-F6)/INDEX(GoalMatrix!$B$11:$G$14,MATCH($A6,GoalMatrix!$A$11:$A$14,0),3)*100<=5,25,0)))) | L6: =IF(G6="","",IF(G6>=INDEX(GoalMatrix!$B$11:$G$14,MATCH($A6,GoalMatrix!$A$11:$A$14,0),4),100,IF((INDEX(GoalMatrix!$B$11:$G$14,MATCH($A6,GoalMatrix!$A$11:$A$14,0),4)-G6)/INDEX(GoalMatrix!$B$11:$G$14,MATCH($A6,GoalMatrix!$A$11:$A$14,0),4)*100<=2.5,50,IF((INDEX(GoalMatrix!$B$11:$G$14,MATCH($A6,GoalMatrix!$A$11:$A$14,0),4)-G6)/INDEX(GoalMatrix!$B$11:$G$14,MATCH($A6,GoalMatrix!$A$11:$A$14,0),4)*100<=5,25,0)))) | M6: =IF(H6="","",IF(H6>=INDEX(GoalMatrix!$B$11:$G$14,MATCH($A6,GoalMatrix!$A$11:$A$14,0),5),100,IF((INDEX(GoalMatrix!$B$11:$G$14,MATCH($A6,GoalMatrix!$A$11:$A$14,0),5)-H6)/INDEX(GoalMatrix!$B$11:$G$14,MATCH($A6,GoalMatrix!$A$11:$A$14,0),5)*100<=2.5,50,IF((INDEX(GoalMatrix!$B$11:$G$14,MATCH($A6,GoalMatrix!$A$11:$A$14,0),5)-H6)/INDEX(GoalMatrix!$B$11:$G$14,MATCH($A6,GoalMatrix!$A$11:$A$14,0),5)*100<=5,25,0))))
A7: Clearance | B7: 2026-04 | C7: =A7&"|"&B7 | D7: 0.566 | E7: 0.5 | G7: 0.75 | H7: 0.55 | I7: =IF(D7="","",IF(D7>=INDEX(GoalMatrix!$B$11:$G$14,MATCH($A7,GoalMatrix!$A$11:$A$14,0),1),100,IF((INDEX(GoalMatrix!$B$11:$G$14,MATCH($A7,GoalMatrix!$A$11:$A$14,0),1)-D7)/INDEX(GoalMatrix!$B$11:$G$14,MATCH($A7,GoalMatrix!$A$11:$A$14,0),1)*100<=2.5,50,IF((INDEX(GoalMatrix!$B$11:$G$14,MATCH($A7,GoalMatrix!$A$11:$A$14,0),1)-D7)/INDEX(GoalMatrix!$B$11:$G$14,MATCH($A7,GoalMatrix!$A$11:$A$14,0),1)*100<=5,25,0)))) | J7: =IF(E7="","",IF(E7>=INDEX(GoalMatrix!$B$11:$G$14,MATCH($A7,GoalMatrix!$A$11:$A$14,0),2),100,IF((INDEX(GoalMatrix!$B$11:$G$14,MATCH($A7,GoalMatrix!$A$11:$A$14,0),2)-E7)/INDEX(GoalMatrix!$B$11:$G$14,MATCH($A7,GoalMatrix!$A$11:$A$14,0),2)*100<=2.5,50,IF((INDEX(GoalMatrix!$B$11:$G$14,MATCH($A7,GoalMatrix!$A$11:$A$14,0),2)-E7)/INDEX(GoalMatrix!$B$11:$G$14,MATCH($A7,GoalMatrix!$A$11:$A$14,0),2)*100<=5,25,0)))) | K7: =IF(F7="","",IF(F7>=INDEX(GoalMatrix!$B$11:$G$14,MATCH($A7,GoalMatrix!$A$11:$A$14,0),3),100,IF((INDEX(GoalMatrix!$B$11:$G$14,MATCH($A7,GoalMatrix!$A$11:$A$14,0),3)-F7)/INDEX(GoalMatrix!$B$11:$G$14,MATCH($A7,GoalMatrix!$A$11:$A$14,0),3)*100<=2.5,50,IF((INDEX(GoalMatrix!$B$11:$G$14,MATCH($A7,GoalMatrix!$A$11:$A$14,0),3)-F7)/INDEX(GoalMatrix!$B$11:$G$14,MATCH($A7,GoalMatrix!$A$11:$A$14,0),3)*100<=5,25,0)))) | L7: =IF(G7="","",IF(G7>=INDEX(GoalMatrix!$B$11:$G$14,MATCH($A7,GoalMatrix!$A$11:$A$14,0),4),100,IF((INDEX(GoalMatrix!$B$11:$G$14,MATCH($A7,GoalMatrix!$A$11:$A$14,0),4)-G7)/INDEX(GoalMatrix!$B$11:$G$14,MATCH($A7,GoalMatrix!$A$11:$A$14,0),4)*100<=2.5,50,IF((INDEX(GoalMatrix!$B$11:$G$14,MATCH($A7,GoalMatrix!$A$11:$A$14,0),4)-G7)/INDEX(GoalMatrix!$B$11:$G$14,MATCH($A7,GoalMatrix!$A$11:$A$14,0),4)*100<=5,25,0)))) | M7: =IF(H7="","",IF(H7>=INDEX(GoalMatrix!$B$11:$G$14,MATCH($A7,GoalMatrix!$A$11:$A$14,0),5),100,IF((INDEX(GoalMatrix!$B$11:$G$14,MATCH($A7,GoalMatrix!$A$11:$A$14,0),5)-H7)/INDEX(GoalMatrix!$B$11:$G$14,MATCH($A7,GoalMatrix!$A$11:$A$14,0),5)*100<=2.5,50,IF((INDEX(GoalMatrix!$B$11:$G$14,MATCH($A7,GoalMatrix!$A$11:$A$14,0),5)-H7)/INDEX(GoalMatrix!$B$11:$G$14,MATCH($A7,GoalMatrix!$A$11:$A$14,0),5)*100<=5,25,0))))

Sheet EmployeePayout
A1: Employee Payout — one row per employee per month
A3: Employee ID | B3: Name | C3: Position | D3: Month | E3: Base Salary (A) | F3: Mkt Target % (B) | G3: LC Mult (D) | H3: Transfer In | I3: Transfer Out | J3: Absence Days (O) | K3: Flag I Join<=16 | L3: Flag J Leave<=16 | M3: Flag K Trans<=16 | N3: Safety Accidents | O3: IB NSL Ach% | P3: OB NSL Ach% | Q3: CMOD Ach% | R3: CTC Ach% | S3: Preclearance Ach% | T3: Safety Ach% | U3: Scorecard Ach% (C) | V3: Days in Month | W3: Eligible Days (P) | X3: Pro-ration (Q) | Y3: Zero Payout? | Z3: Monthly Payout
A4: EMP001 | B4: Courier A | C4: Station Courier | D4: 2026-04 | E4: 2000 | F4: 10 | G4: 1 | J4: 0 | K4: N | L4: N | M4: N | N4: 0 | O4: =IFERROR(N(VLOOKUP($C4&"|"&$D4,TeamScorecard!$C$4:$M$7,7,FALSE)),0) | P4: =IFERROR(N(VLOOKUP($C4&"|"&$D4,TeamScorecard!$C$4:$M$7,8,FALSE)),0) | Q4: =IFERROR(N(VLOOKUP($C4&"|"&$D4,TeamScorecard!$C$4:$M$7,9,FALSE)),0) | R4: =IFERROR(N(VLOOKUP($C4&"|"&$D4,TeamScorecard!$C$4:$M$7,10,FALSE)),0) | S4: =IFERROR(N(VLOOKUP($C4&"|"&$D4,TeamScorecard!$C$4:$M$7,11,FALSE)),0) | T4: =IF($N4=0,100,0) | U4: =O4*INDEX(GoalMatrix!$B$4:$G$7,MATCH($C4,GoalMatrix!$A$4:$A$7,0),1)+P4*INDEX(GoalMatrix!$B$4:$G$7,MATCH($C4,GoalMatrix!$A$4:$A$7,0),2)+Q4*INDEX(GoalMatrix!$B$4:$G$7,MATCH($C4,GoalMatrix!$A$4:$A$7,0),3)+R4*INDEX(GoalMatrix!$B$4:$G$7,MATCH($C4,GoalMatrix!$A$4:$A$7,0),4)+S4*INDEX(GoalMatrix!$B$4:$G$7,MATCH($C4,GoalMatrix!$A$4:$A$7,0),5)+T4*INDEX(GoalMatrix!$B$4:$G$7,MATCH($C4,GoalMatrix!$A$4:$A$7,0),6) | V4: =DAY(EOMONTH(DATE(LEFT($D4,4),MID($D4,6,2),1),0)) | W4: =IF(AND($H4="",$I4=""),$V4,IF(AND($H4<>"",$I4=""),$V4-DAY($H4)+1,IF(AND($H4="",$I4<>""),DAY($I4),DAY($I4)-DAY($H4)+1))) | X4: =IF($Y4,0,IF($J4<15,IF($J4=$W4,0,$W4/$V4),($W4-$J4)/$V4)) | Y4: =OR($K4="Y",$L4="Y",$M4="Y",$J4>=15) | Z4: =IF($Y4,0,$E4*($F4/100)*($U4/100)*$G4*$X4)
A5: EMP002 | B5: Agent B | C5: Station Agent | D5: 2026-04 | E5: 2500 | F5: 10 | G5: 1 | J5: 0 | K5: N | L5: N | M5: N | N5: 0 | O5: =IFERROR(N(VLOOKUP($C5&"|"&$D5,TeamScorecard!$C$4:$M$7,7,FALSE)),0) | P5: =IFERROR(N(VLOOKUP($C5&"|"&$D5,TeamScorecard!$C$4:$M$7,8,FALSE)),0) | Q5: =IFERROR(N(VLOOKUP($C5&"|"&$D5,TeamScorecard!$C$4:$M$7,9,FALSE)),0) | R5: =IFERROR(N(VLOOKUP($C5&"|"&$D5,TeamScorecard!$C$4:$M$7,10,FALSE)),0) | S5: =IFERROR(N(VLOOKUP($C5&"|"&$D5,TeamScorecard!$C$4:$M$7,11,FALSE)),0) | T5: =IF($N5=0,100,0) | U5: =O5*INDEX(GoalMatrix!$B$4:$G$7,MATCH($C5,GoalMatrix!$A$4:$A$7,0),1)+P5*INDEX(GoalMatrix!$B$4:$G$7,MATCH($C5,GoalMatrix!$A$4:$A$7,0),2)+Q5*INDEX(GoalMatrix!$B$4:$G$7,MATCH($C5,GoalMatrix!$A$4:$A$7,0),3)+R5*INDEX(GoalMatrix!$B$4:$G$7,MATCH($C5,GoalMatrix!$A$4:$A$7,0),4)+S5*INDEX(GoalMatrix!$B$4:$G$7,MATCH($C5,GoalMatrix!$A$4:$A$7,0),5)+T5*INDEX(GoalMatrix!$B$4:$G$7,MATCH($C5,GoalMatrix!$A$4:$A$7,0),6) | V5: =DAY(EOMONTH(DATE(LEFT($D5,4),MID($D5,6,2),1),0)) | W5: =IF(AND($H5="",$I5=""),$V5,IF(AND($H5<>"",$I5=""),$V5-DAY($H5)+1,IF(AND($H5="",$I5<>""),DAY($I5),DAY($I5)-DAY($H5)+1))) | X5: =IF($Y5,0,IF($J5<15,IF($J5=$W5,0,$W5/$V5),($W5-$J5)/$V5)) | Y5: =OR($K5="Y",$L5="Y",$M5="Y",$J5>=15) | Z5: =IF($Y5,0,$E5*($F5/100)*($U5/100)*$G5*$X5)
A6: EMP003 | B6: Gateway C | C6: Gateway | D6: 2026-04 | E6: 3000 | F6: 10 | G6: 1 | J6: 0 | K6: N | L6: N | M6: N | N6: 0 | O6: =IFERROR(N(VLOOKUP($C6&"|"&$D6,TeamScorecard!$C$4:$M$7,7,FALSE)),0) | P6: =IFERROR(N(VLOOKUP($C6&"|"&$D6,TeamScorecard!$C$4:$M$7,8,FALSE)),0) | Q6: =IFERROR(N(VLOOKUP($C6&"|"&$D6,TeamScorecard!$C$4:$M$7,9,FALSE)),0) | R6: =IFERROR(N(VLOOKUP($C6&"|"&$D6,TeamScorecard!$C$4:$M$7,10,FALSE)),0) | S6: =IFERROR(N(VLOOKUP($C6&"|"&$D6,TeamScorecard!$C$4:$M$7,11,FALSE)),0) | T6: =IF($N6=0,100,0) | U6: =O6*INDEX(GoalMatrix!$B$4:$G$7,MATCH($C6,GoalMatrix!$A$4:$A$7,0),1)+P6*INDEX(GoalMatrix!$B$4:$G$7,MATCH($C6,GoalMatrix!$A$4:$A$7,0),2)+Q6*INDEX(GoalMatrix!$B$4:$G$7,MATCH($C6,GoalMatrix!$A$4:$A$7,0),3)+R6*INDEX(GoalMatrix!$B$4:$G$7,MATCH($C6,GoalMatrix!$A$4:$A$7,0),4)+S6*INDEX(GoalMatrix!$B$4:$G$7,MATCH($C6,GoalMatrix!$A$4:$A$7,0),5)+T6*INDEX(GoalMatrix!$B$4:$G$7,MATCH($C6,GoalMatrix!$A$4:$A$7,0),6) | V6: =DAY(EOMONTH(DATE(LEFT($D6,4),MID($D6,6,2),1),0)) | W6: =IF(AND($H6="",$I6=""),$V6,IF(AND($H6<>"",$I6=""),$V6-DAY($H6)+1,IF(AND($H6="",$I6<>""),DAY($I6),DAY($I6)-DAY($H6)+1))) | X6: =IF($Y6,0,IF($J6<15,IF($J6=$W6,0,$W6/$V6),($W6-$J6)/$V6)) | Y6: =OR($K6="Y",$L6="Y",$M6="Y",$J6>=15) | Z6: =IF($Y6,0,$E6*($F6/100)*($U6/100)*$G6*$X6)
A7: EMP004 | B7: Clear D | C7: Clearance | D7: 2026-04 | E7: 2800 | F7: 10 | G7: 1 | J7: 0 | K7: N | L7: N | M7: N | N7: 0 | O7: =IFERROR(N(VLOOKUP($C7&"|"&$D7,TeamScorecard!$C$4:$M$7,7,FALSE)),0) | P7: =IFERROR(N(VLOOKUP($C7&"|"&$D7,TeamScorecard!$C$4:$M$7,8,FALSE)),0) | Q7: =IFERROR(N(VLOOKUP($C7&"|"&$D7,TeamScorecard!$C$4:$M$7,9,FALSE)),0) | R7: =IFERROR(N(VLOOKUP($C7&"|"&$D7,TeamScorecard!$C$4:$M$7,10,FALSE)),0) | S7: =IFERROR(N(VLOOKUP($C7&"|"&$D7,TeamScorecard!$C$4:$M$7,11,FALSE)),0) | T7: =IF($N7=0,100,0) | U7: =O7*INDEX(GoalMatrix!$B$4:$G$7,MATCH($C7,GoalMatrix!$A$4:$A$7,0),1)+P7*INDEX(GoalMatrix!$B$4:$G$7,MATCH($C7,GoalMatrix!$A$4:$A$7,0),2)+Q7*INDEX(GoalMatrix!$B$4:$G$7,MATCH($C7,GoalMatrix!$A$4:$A$7,0),3)+R7*INDEX(GoalMatrix!$B$4:$G$7,MATCH($C7,GoalMatrix!$A$4:$A$7,0),4)+S7*INDEX(GoalMatrix!$B$4:$G$7,MATCH($C7,GoalMatrix!$A$4:$A$7,0),5)+T7*INDEX(GoalMatrix!$B$4:$G$7,MATCH($C7,GoalMatrix!$A$4:$A$7,0),6) | V7: =DAY(EOMONTH(DATE(LEFT($D7,4),MID($D7,6,2),1),0)) | W7: =IF(AND($H7="",$I7=""),$V7,IF(AND($H7<>"",$I7=""),$V7-DAY($H7)+1,IF(AND($H7="",$I7<>""),DAY($I7),DAY($I7)-DAY($H7)+1))) | X7: =IF($Y7,0,IF($J7<15,IF($J7=$W7,0,$W7/$V7),($W7-$J7)/$V7)) | Y7: =OR($K7="Y",$L7="Y",$M7="Y",$J7>=15) | Z7: =IF($Y7,0,$E7*($F7/100)*($U7/100)*$G7*$X7)
A8: EMP005 | B8: Courier E | C8: Station Courier | D8: 2026-04 | E8: 2000 | F8: 10 | G8: 1 | H8: 46122 | J8: 0 | K8: N | L8: N | M8: N | N8: 0 | O8: =IFERROR(N(VLOOKUP($C8&"|"&$D8,TeamScorecard!$C$4:$M$7,7,FALSE)),0) | P8: =IFERROR(N(VLOOKUP($C8&"|"&$D8,TeamScorecard!$C$4:$M$7,8,FALSE)),0) | Q8: =IFERROR(N(VLOOKUP($C8&"|"&$D8,TeamScorecard!$C$4:$M$7,9,FALSE)),0) | R8: =IFERROR(N(VLOOKUP($C8&"|"&$D8,TeamScorecard!$C$4:$M$7,10,FALSE)),0) | S8: =IFERROR(N(VLOOKUP($C8&"|"&$D8,TeamScorecard!$C$4:$M$7,11,FALSE)),0) | T8: =IF($N8=0,100,0) | U8: =O8*INDEX(GoalMatrix!$B$4:$G$7,MATCH($C8,GoalMatrix!$A$4:$A$7,0),1)+P8*INDEX(GoalMatrix!$B$4:$G$7,MATCH($C8,GoalMatrix!$A$4:$A$7,0),2)+Q8*INDEX(GoalMatrix!$B$4:$G$7,MATCH($C8,GoalMatrix!$A$4:$A$7,0),3)+R8*INDEX(GoalMatrix!$B$4:$G$7,MATCH($C8,GoalMatrix!$A$4:$A$7,0),4)+S8*INDEX(GoalMatrix!$B$4:$G$7,MATCH($C8,GoalMatrix!$A$4:$A$7,0),5)+T8*INDEX(GoalMatrix!$B$4:$G$7,MATCH($C8,GoalMatrix!$A$4:$A$7,0),6) | V8: =DAY(EOMONTH(DATE(LEFT($D8,4),MID($D8,6,2),1),0)) | W8: =IF(AND($H8="",$I8=""),$V8,IF(AND($H8<>"",$I8=""),$V8-DAY($H8)+1,IF(AND($H8="",$I8<>""),DAY($I8),DAY($I8)-DAY($H8)+1))) | X8: =IF($Y8,0,IF($J8<15,IF($J8=$W8,0,$W8/$V8),($W8-$J8)/$V8)) | Y8: =OR($K8="Y",$L8="Y",$M8="Y",$J8>=15) | Z8: =IF($Y8,0,$E8*($F8/100)*($U8/100)*$G8*$X8)
A9: EMP006 | B9: Courier F | C9: Station Courier | D9: 2026-04 | E9: 2000 | F9: 10 | G9: 1 | J9: 0 | K9: Y | L9: N | M9: N | N9: 0 | O9: =IFERROR(N(VLOOKUP($C9&"|"&$D9,TeamScorecard!$C$4:$M$7,7,FALSE)),0) | P9: =IFERROR(N(VLOOKUP($C9&"|"&$D9,TeamScorecard!$C$4:$M$7,8,FALSE)),0) | Q9: =IFERROR(N(VLOOKUP($C9&"|"&$D9,TeamScorecard!$C$4:$M$7,9,FALSE)),0) | R9: =IFERROR(N(VLOOKUP($C9&"|"&$D9,TeamScorecard!$C$4:$M$7,10,FALSE)),0) | S9: =IFERROR(N(VLOOKUP($C9&"|"&$D9,TeamScorecard!$C$4:$M$7,11,FALSE)),0) | T9: =IF($N9=0,100,0) | U9: =O9*INDEX(GoalMatrix!$B$4:$G$7,MATCH($C9,GoalMatrix!$A$4:$A$7,0),1)+P9*INDEX(GoalMatrix!$B$4:$G$7,MATCH($C9,GoalMatrix!$A$4:$A$7,0),2)+Q9*INDEX(GoalMatrix!$B$4:$G$7,MATCH($C9,GoalMatrix!$A$4:$A$7,0),3)+R9*INDEX(GoalMatrix!$B$4:$G$7,MATCH($C9,GoalMatrix!$A$4:$A$7,0),4)+S9*INDEX(GoalMatrix!$B$4:$G$7,MATCH($C9,GoalMatrix!$A$4:$A$7,0),5)+T9*INDEX(GoalMatrix!$B$4:$G$7,MATCH($C9,GoalMatrix!$A$4:$A$7,0),6) | V9: =DAY(EOMONTH(DATE(LEFT($D9,4),MID($D9,6,2),1),0)) | W9: =IF(AND($H9="",$I9=""),$V9,IF(AND($H9<>"",$I9=""),$V9-DAY($H9)+1,IF(AND($H9="",$I9<>""),DAY($I9),DAY($I9)-DAY($H9)+1))) | X9: =IF($Y9,0,IF($J9<15,IF($J9=$W9,0,$W9/$V9),($W9-$J9)/$V9)) | Y9: =OR($K9="Y",$L9="Y",$M9="Y",$J9>=15) | Z9: =IF($Y9,0,$E9*($F9/100)*($U9/100)*$G9*$X9)

Sheet Reference
A1: Reference — bands, LC multiplier, formula
A3: Achievement Band (per metric)
A4: Level | B4: Achievement %
A5: Meet goal | B5: 100
A6: Miss goal <=2.5% | B6: 50
A7: Miss goal >2.5% to <=5% | B7: 25
A8: Miss goal >5% | B8: 0
A11: LC Multiplier (APAC / District achievement) — placeholder for Fiji
A12: LC vs Goal | B12: Multiplier (non-China) | C12: Multiplier (China ref)
A13: Beat >=16% | B13: 1.4 | C13: 1.2
A14: Beat 12-15.99% | B14: 1.3 | C14: 1.15
A15: Beat 8-11.99% | B15: 1.2 | C15: 1.1
A16: Beat 4-7.99% | B16: 1.1 | C16: 1.05
A17: Within +/-3.99% | B17: 1 | C17: 1
A18: Miss 4-7.99% | B18: 0.9 | C18: 0.95
A19: Miss 8-11.99% | B19: 0.8 | C19: 0.9
A20: Miss 12-15.99% | B20: 0.7 | C20: 0.85
A21: Miss >=16% | B21: 0.6 | C21: 0.8
A23: Payout Formula
A24: Monthly Payout = A x (B/100) x (C/100) x D x Q
A25: A=Base Salary B=Market Target% C=Scorecard Ach% D=LC Multiplier Q=Pro-ration
